BEGIN:VCALENDAR
VERSION:2.0
PRODID:-//Smart Home Franken e.V. - ECPv6.15.18//NONSGML v1.0//EN
CALSCALE:GREGORIAN
METHOD:PUBLISH
X-ORIGINAL-URL:https://smarthome-franken.org
X-WR-CALDESC:Veranstaltungen für Smart Home Franken e.V.
REFRESH-INTERVAL;VALUE=DURATION:PT1H
X-Robots-Tag:noindex
X-PUBLISHED-TTL:PT1H
BEGIN:VTIMEZONE
TZID:Europe/Berlin
BEGIN:DAYLIGHT
TZOFFSETFROM:+0100
TZOFFSETTO:+0200
TZNAME:CEST
DTSTART:20160327T010000
END:DAYLIGHT
BEGIN:STANDARD
TZOFFSETFROM:+0200
TZOFFSETTO:+0100
TZNAME:CET
DTSTART:20161030T010000
END:STANDARD
BEGIN:DAYLIGHT
TZOFFSETFROM:+0100
TZOFFSETTO:+0200
TZNAME:CEST
DTSTART:20170326T010000
END:DAYLIGHT
BEGIN:STANDARD
TZOFFSETFROM:+0200
TZOFFSETTO:+0100
TZNAME:CET
DTSTART:20171029T010000
END:STANDARD
BEGIN:DAYLIGHT
TZOFFSETFROM:+0100
TZOFFSETTO:+0200
TZNAME:CEST
DTSTART:20180325T010000
END:DAYLIGHT
BEGIN:STANDARD
TZOFFSETFROM:+0200
TZOFFSETTO:+0100
TZNAME:CET
DTSTART:20181028T010000
END:STANDARD
END:VTIMEZONE
BEGIN:VEVENT
DTSTART;VALUE=DATE:20171124
DTEND;VALUE=DATE:20171125
DTSTAMP:20260421T154024
CREATED:20171017T165028Z
LAST-MODIFIED:20171115T125805Z
UID:88-1511481600-1511567999@smarthome-franken.org
SUMMARY:Stammtisch SmartHomeFranken
DESCRIPTION:Smart Home Stammtisch Agenda\n\n18:45 Uhr Begrüßung\n19:00 Uhr Wiregate – elabnet (Herr Stefan\nWerner)Timberwolf u.a.\n20:00 Uhr Gemeinsames Abendessen\n20:45 Uhr B. E. G GmbH (Herr Elmar Brunner)\nB.E.G KNX Applikation 6.0•\n21:45 Uhr Barthelme GmbH (Herr Ebbecke Hartmut)\n– LED – Aufbau und Besonderheiten\n– LED-Streifen und Aluminiumprofile\n– Betriebsarten (Stromkonstanz\, Spannungskonstanz) und Dimmung (PWM)\n– Produktreihe Aqualuc: universell und robust im Außenbereich (Fassaden\, Boden\, landschaftsgärtnerische Gestaltung)\n22:45 Uhr COMEXIO GmbH (Herr Georg Stadtfeld)\n– Überblick COMEXIO System\n– Vorteile der Kombination von KNX mit COMEXIO\n– Neuheiten\n23:45 Uhr ISE GmbH (Herr Danny Zeiler)\n– Remote Access mit seinen neuen Features\n– Axis App\n– Hue Gateway\n00:45 Uhr Roundtable (bis in den frühen Morgen)\n\nAgenda Stammtisch Franken Nov. 2017 zum Download
URL:https://smarthome-franken.org/event/stammtisch-smarthomefranken-november-2017/
LOCATION:Smarthome-Franken Zentrum Leicht Landgasthof\, Mittelstraße 2\, Kemmern\, Bayern\, 96164\, Deutschland
ORGANIZER;CN="SmartHome Franken e.V.":MAILTO:info@smarthome-franken.org
END:VEVENT
END:VCALENDAR