BEGIN:VCALENDAR
VERSION:2.0
PRODID:-//Smart Home Franken e.V. - ECPv6.15.18//NONSGML v1.0//EN
CALSCALE:GREGORIAN
METHOD:PUBLISH
X-ORIGINAL-URL:https://smarthome-franken.org
X-WR-CALDESC:Veranstaltungen für Smart Home Franken e.V.
REFRESH-INTERVAL;VALUE=DURATION:PT1H
X-Robots-Tag:noindex
X-PUBLISHED-TTL:PT1H
BEGIN:VTIMEZONE
TZID:Europe/Berlin
BEGIN:DAYLIGHT
TZOFFSETFROM:+0100
TZOFFSETTO:+0200
TZNAME:CEST
DTSTART:20170326T010000
END:DAYLIGHT
BEGIN:STANDARD
TZOFFSETFROM:+0200
TZOFFSETTO:+0100
TZNAME:CET
DTSTART:20171029T010000
END:STANDARD
BEGIN:DAYLIGHT
TZOFFSETFROM:+0100
TZOFFSETTO:+0200
TZNAME:CEST
DTSTART:20180325T010000
END:DAYLIGHT
BEGIN:STANDARD
TZOFFSETFROM:+0200
TZOFFSETTO:+0100
TZNAME:CET
DTSTART:20181028T010000
END:STANDARD
BEGIN:DAYLIGHT
TZOFFSETFROM:+0100
TZOFFSETTO:+0200
TZNAME:CEST
DTSTART:20190331T010000
END:DAYLIGHT
BEGIN:STANDARD
TZOFFSETFROM:+0200
TZOFFSETTO:+0100
TZNAME:CET
DTSTART:20191027T010000
END:STANDARD
END:VTIMEZONE
BEGIN:VEVENT
DTSTART;TZID=Europe/Berlin:20180202T184500
DTEND;TZID=Europe/Berlin:20180202T184500
DTSTAMP:20260421T102052
CREATED:20171127T072318Z
LAST-MODIFIED:20180112T183623Z
UID:424-1517597100-1517597100@smarthome-franken.org
SUMMARY:Stammtisch SmartHome-Franken
DESCRIPTION:Themen: \n\nHager\nBosch Thermotechnik \nMerten\nRademacher\n\nDownload Agenda \n2018_02 Agenda Stammtisch Franken
URL:https://smarthome-franken.org/event/stammtisch-smarthomefranken/
LOCATION:Smarthome-Franken Zentrum Leicht Landgasthof\, Mittelstraße 2\, Kemmern\, Bayern\, 96164\, Deutschland
END:VEVENT
END:VCALENDAR